BEGIN:VCALENDAR
VERSION:2.0
PRODID:-//REMBE® rad-net//NONSGML kigkonsult.se iCalcreator 2.41.92//
CALSCALE:GREGORIAN
METHOD:PUBLISH
UID:65653864-6433-4663-b837-653436306134
X-WR-CALNAME:iCagenda
X-WR-CALDESC:Event Management Extension for Joomla!
X-WR-RELCALID:3E26604A-50F4-4449-8B3E-E4F4932D05B5
X-WR-TIMEZONE:UTC
BEGIN:VTIMEZONE
TZID:UTC
END:VTIMEZONE
BEGIN:VEVENT
UID:61656662-3564-4832-a566-366565653030
DTSTAMP:20260421T081312Z
CATEGORIES:Rennkalender
CLASS:PUBLIC
DESCRIPTION:
DTSTART:20250910T000000Z
DTEND:20250914T235900Z
GEO:00;0
LOCATION:
ORGANIZER:
SEQUENCE:1
SUMMARY:Turul Romaniei (UCI 2.2)
TRANSP:OPAQUE
URL:https://rembe-pro-cycling.de/rennkalender/turul-romaniei-uci-2-2
END:VEVENT
END:VCALENDAR
