BEGIN:VCALENDAR
VERSION:2.0
PRODID:-//REMBE® rad-net//NONSGML kigkonsult.se iCalcreator 2.41.92//
CALSCALE:GREGORIAN
METHOD:PUBLISH
UID:31636664-3036-4538-a635-313034616233
X-WR-CALNAME:iCagenda
X-WR-CALDESC:Event Management Extension for Joomla!
X-WR-RELCALID:3E26604A-50F4-4449-8B3E-E4F4932D05B5
X-WR-TIMEZONE:UTC
BEGIN:VTIMEZONE
TZID:UTC
END:VTIMEZONE
BEGIN:VEVENT
UID:39663661-6337-4631-b965-343266666136
DTSTAMP:20260421T081008Z
CATEGORIES:Rennkalender
CLASS:PUBLIC
DESCRIPTION:
DTSTART:20250316T000000Z
DTEND:20250316T235900Z
GEO:00;0
LOCATION:
ORGANIZER:
SEQUENCE:1
SUMMARY:Frühjahrspreis Herford
TRANSP:OPAQUE
URL:https://rembe-pro-cycling.de/rennkalender/fruehjahrspreis-herford
END:VEVENT
END:VCALENDAR
